BEGIN:VCALENDAR
VERSION:2.0
PRODID:-//pretix//GT_Days//
BEGIN:VTIMEZONE
TZID:Europe/Berlin
BEGIN:STANDARD
DTSTART:20001029T040000
RRULE:FREQ=YEARLY;BYDAY=-1SU;BYMONTH=10
TZNAME:CET
TZOFFSETFROM:+0200
TZOFFSETTO:+0100
END:STANDARD
BEGIN:DAYLIGHT
DTSTART:20000326T030000
RRULE:FREQ=YEARLY;BYDAY=-1SU;BYMONTH=3
TZNAME:CEST
TZOFFSETFROM:+0100
TZOFFSETTO:+0200
END:DAYLIGHT
END:VTIMEZONE
BEGIN:VEVENT
UID:pretix-gtd-pucfx-0@shop.gt-days.com
DTSTART;TZID=Europe/Berlin:20240810T070000
DTEND;TZID=Europe/Berlin:20240810T180000
DESCRIPTION:Tickets: https://shop.gt-days.com/gtd/pucfx/\nOrganizer: GT Day
 s
DTSTAMP:20260424T070804Z
LOCATION:Salzburgring 1\, 5325 Plainfeld\, Österreich
SUMMARY:Salzburgring Trackday - 10. August 2024
END:VEVENT
END:VCALENDAR
